BEGIN:VCALENDAR
VERSION:2.0
PRODID:-//AFP Cincinnati - ECPv6.15.12.2//NONSGML v1.0//EN
CALSCALE:GREGORIAN
METHOD:PUBLISH
X-ORIGINAL-URL:https://www.afpcincinnati.org
X-WR-CALDESC:Events for AFP Cincinnati
REFRESH-INTERVAL;VALUE=DURATION:PT1H
X-Robots-Tag:noindex
X-PUBLISHED-TTL:PT1H
BEGIN:VTIMEZONE
TZID:America/New_York
BEGIN:DAYLIGHT
TZOFFSETFROM:-0500
TZOFFSETTO:-0400
TZNAME:EDT
DTSTART:20180311T070000
END:DAYLIGHT
BEGIN:STANDARD
TZOFFSETFROM:-0400
TZOFFSETTO:-0500
TZNAME:EST
DTSTART:20181104T060000
END:STANDARD
BEGIN:DAYLIGHT
TZOFFSETFROM:-0500
TZOFFSETTO:-0400
TZNAME:EDT
DTSTART:20190310T070000
END:DAYLIGHT
BEGIN:STANDARD
TZOFFSETFROM:-0400
TZOFFSETTO:-0500
TZNAME:EST
DTSTART:20191103T060000
END:STANDARD
BEGIN:DAYLIGHT
TZOFFSETFROM:-0500
TZOFFSETTO:-0400
TZNAME:EDT
DTSTART:20200308T070000
END:DAYLIGHT
BEGIN:STANDARD
TZOFFSETFROM:-0400
TZOFFSETTO:-0500
TZNAME:EST
DTSTART:20201101T060000
END:STANDARD
END:VTIMEZONE
BEGIN:VEVENT
DTSTART;TZID=America/New_York:20191107T110000
DTEND;TZID=America/New_York:20191107T133000
DTSTAMP:20260423T111618
CREATED:20190829T161253Z
LAST-MODIFIED:20190830T143854Z
UID:10001439-1573124400-1573133400@www.afpcincinnati.org
SUMMARY:2019 National Philanthropy Day
DESCRIPTION:National Philanthropy Day (NPD) is a special day set aside to promote philanthropy and recognize individuals\, organizations and businesses that are inspiring change through their significant impact on nonprofit organizations. Each day\, generous benefactors and volunteers make a difference to people across a spectrum of nonprofit organizations from the arts to education to social services and everything in between. The National Philanthropy Day Luncheon is our annual\, signature event at which people representing businesses\, nonprofits\, philanthropists and volunteers come together to celebrate our vibrant philanthropic community. All nonprofit organizations have the opportunity to participate in our Honoree process by recognizing donors\, volunteers and special friends who have made a truly exceptional impact. \nRegistration and Networking at 11:00 am\nProgram and Luncheon at 11:30 – 1:30 pm \nDate: Thursday\, November 7\, 2019 \nVenue: Cincinnati Music Hall\n1241 Elm St\, Cincinnati\, OH 45202 \nCost: Early registration thru October 15: $65\nLate registration from October 16 – October 30: $75 \nRegister\nRegister to attend as an individual or become a sponsor!
URL:https://www.afpcincinnati.org/event/191107npd/
LOCATION:Cincinnati Music Hall\, 1241 Elm St\,\, Cincinnati\, OH\, 45202\, United States
ATTACH;FMTTYPE=image/png:https://www.afpcincinnati.org/wp-content/uploads/2019/08/AFP-NPD-Logo.png
END:VEVENT
END:VCALENDAR